BEGIN:VCALENDAR
VERSION:2.0
PRODID:-//cooindegabo - ECPv6.15.20//NONSGML v1.0//EN
CALSCALE:GREGORIAN
METHOD:PUBLISH
X-ORIGINAL-URL:https://cooindegabo.com.co
X-WR-CALDESC:Eventos para cooindegabo
REFRESH-INTERVAL;VALUE=DURATION:PT1H
X-Robots-Tag:noindex
X-PUBLISHED-TTL:PT1H
BEGIN:VTIMEZONE
TZID:UTC
BEGIN:STANDARD
TZOFFSETFROM:+0000
TZOFFSETTO:+0000
TZNAME:UTC
DTSTART:20240101T000000
END:STANDARD
END:VTIMEZONE
BEGIN:VEVENT
DTSTART;VALUE=DATE:20250625
DTEND;VALUE=DATE:20250626
DTSTAMP:20260421T132712
CREATED:20250609T142031Z
LAST-MODIFIED:20250609T142140Z
UID:5506-1750809600-1750895999@cooindegabo.com.co
SUMMARY:CONVERSATORIO DÍA DEL PADRE
DESCRIPTION:El Súper Poder de Ser Papá: Liderazgo y Amor en el Hogar 🦸‍♂️\nEste Día del Padre\, ¡celebramos tu súper poder! ✨ Te invitamos a nuestra conferencia virtual el 25 de junio\, de 6:30 p.m. a 8:00 p.m.\, diseñada para ti. \nExploraremos juntos la delicada línea entre autoridad y autoritarismo\, cómo tus hijos son un reflejo de tus pasos\, y el inmenso poder de liderar con el ejemplo. Aprende a guiar con un corazón que inspira y transforma. ¡No te pierdas esta oportunidad de ser un papá aún más extraordinario! \n¡Asegura tu lugar y fortalece tu rol como líder familiar! 👇 \nINSCRIBETE AQUI
URL:https://cooindegabo.com.co/event/conversatorio-dia-del-padre/
CATEGORIES:BIENESTAR
END:VEVENT
BEGIN:VEVENT
DTSTART;VALUE=DATE:20250630
DTEND;VALUE=DATE:20250701
DTSTAMP:20260421T132712
CREATED:20250604T183212Z
LAST-MODIFIED:20250618T141748Z
UID:5474-1751241600-1751327999@cooindegabo.com.co
SUMMARY:BECAS DE EDUCACIÓN SUPERIOR FUNDEQUIDAD
DESCRIPTION:  \n \n!Hacemos una cordial invitación para que no pierdas esta gran oportunidad y puedas postularte!\n  \n\nEstar vinculado como asociado\, directivo o funcionario de Cooindegabo\, o ser cónyugue o familiar de uno de ellos hasta primer grado de consanguinidad o primero de afinidad civil.\nTener una antigüedad mínima de seis meses.\nEstar actualmente vinculado a un centro universitario debidamente autorizado por el ministerio de Educación.\nEl aspirante no debe tener ningún otro tipo de apoyo o subsidio\, para los mísmos rubros que contempla este programa educativo. (se entiende como subsidio o apoyo\, aquellos beneficios que dividen la carga económica para pagos de matrículas)\nPara candidatos que ya iniciaron sus estudios de educación superior\, haber terminado su periodo académico inmediatamente anterior con un promedio mínimo de 3.5.\nEl cubrimiento de este beneficio va dirigido a los programas de educación superior: Pregrado\, Técnico\, Profesional y Tecnólogo.\nPara los aspirantes que inician sus estudios de educación superior deben cumplir con un mínimo en su promedio académico y/o resultado ICFES que deben ser consultados en el reglamento antes de realizar la solicitud.\n\nINSCRIPCIONES ABIERTAS HASTA EL 27 DE JUNIO DE 2025\nInformes\n320 435 10 91\nbienestar@cooindegabo.com.co
URL:https://cooindegabo.com.co/event/becas-de-educacion-superior-fundequidad/
CATEGORIES:BIENESTAR
END:VEVENT
END:VCALENDAR