BEGIN:VCALENDAR
VERSION:2.0
PRODID:-//cooindegabo - ECPv6.15.20//NONSGML v1.0//EN
CALSCALE:GREGORIAN
METHOD:PUBLISH
X-WR-CALNAME:cooindegabo
X-ORIGINAL-URL:https://cooindegabo.com.co
X-WR-CALDESC:Eventos para cooindegabo
REFRESH-INTERVAL;VALUE=DURATION:PT1H
X-Robots-Tag:noindex
X-PUBLISHED-TTL:PT1H
BEGIN:VTIMEZONE
TZID:UTC
BEGIN:STANDARD
TZOFFSETFROM:+0000
TZOFFSETTO:+0000
TZNAME:UTC
DTSTART:20240101T000000
END:STANDARD
END:VTIMEZONE
BEGIN:VEVENT
DTSTART;TZID=UTC:20250513T180000
DTEND;TZID=UTC:20250513T200000
DTSTAMP:20260421T145519
CREATED:20250424T185301Z
LAST-MODIFIED:20250425T132043Z
UID:5297-1747159200-1747166400@cooindegabo.com.co
SUMMARY:FORO INFORMATIVO PEREIRA\, CALI\, IBAGUÉ Y BARRANQUILLA./FECHA 13 DE MAYO
DESCRIPTION:La Asamblea General de Delegados 2025 ha definido importantes directrices para nuestra cooperativa. Para que conozcas a fondo cada decisión y su impacto\, te invitamos cordialmente a nuestros foros virtuales informativos. \n13 DE MAYO OFICINAS INVITADAS Pereira\, Cali\, Ibagué y Barranquilla.\nINSCRIBETE CLIC AQUI\n ¡Tu participación activa fortalece nuestra comunidad y asegura que estemos todos en la misma sintonía! \n 
URL:https://cooindegabo.com.co/event/foro-informativo-pereira-cali-ibague-y-barranquilla-fecha-13-de-mayo/
CATEGORIES:BIENESTAR
END:VEVENT
BEGIN:VEVENT
DTSTART;TZID=UTC:20250514T180000
DTEND;TZID=UTC:20250514T200000
DTSTAMP:20260421T145519
CREATED:20250424T185628Z
LAST-MODIFIED:20250425T132018Z
UID:5299-1747245600-1747252800@cooindegabo.com.co
SUMMARY:FORO INFORMATIVO DUITAMA./ FECHA 14 DE MAYO
DESCRIPTION:La Asamblea General de Delegados 2025 ha definido importantes directrices para nuestra cooperativa. Para que conozcas a fondo cada decisión y su impacto\, te invitamos cordialmente a nuestros foros virtuales informativos. \n14 DE MAYO OFICINA INVITADA DUITAMA\nINSCRIBETE CLIC AQUI\n ¡Tu participación activa fortalece nuestra comunidad y asegura que estemos todos en la misma sintonía! \n 
URL:https://cooindegabo.com.co/event/foro-informativo-duitama-14-de-mayo/
CATEGORIES:BIENESTAR
END:VEVENT
BEGIN:VEVENT
DTSTART;TZID=UTC:20250515T180000
DTEND;TZID=UTC:20250515T200000
DTSTAMP:20260421T145519
CREATED:20250424T185859Z
LAST-MODIFIED:20250425T131932Z
UID:5301-1747332000-1747339200@cooindegabo.com.co
SUMMARY:FORO INFORMATIVO AGENCIA BOGOTÁ Y TOCANCIPÁ./ FECHA 15 DE MAYO
DESCRIPTION:La Asamblea General de Delegados 2025 ha definido importantes directrices para nuestra cooperativa. Para que conozcas a fondo cada decisión y su impacto\, te invitamos cordialmente a nuestros foros virtuales informativos. \n15 DE MAYO OFICINAS INVITADAS BOGOTÁ Y TOCANCIPÁ\nINSCRIBETE CLIC AQUI\n ¡Tu participación activa fortalece nuestra comunidad y asegura que estemos todos en la misma sintonía! \n 
URL:https://cooindegabo.com.co/event/foro-informativo-agencia-bogota-y-tocancipa-fecha-15-de-mayo/
CATEGORIES:BIENESTAR
END:VEVENT
END:VCALENDAR